BEGIN:VCALENDAR
VERSION:2.0
PRODID:-//The Historic Preservation Alliance of Colorado Springs - ECPv6.9.0//NONSGML v1.0//EN
CALSCALE:GREGORIAN
METHOD:PUBLISH
X-WR-CALNAME:The Historic Preservation Alliance of Colorado Springs
X-ORIGINAL-URL:https://give.hpasprings.org
X-WR-CALDESC:Events for The Historic Preservation Alliance of Colorado Springs
REFRESH-INTERVAL;VALUE=DURATION:PT1H
X-Robots-Tag:noindex
X-PUBLISHED-TTL:PT1H
BEGIN:VTIMEZONE
TZID:America/Denver
BEGIN:DAYLIGHT
TZOFFSETFROM:-0700
TZOFFSETTO:-0600
TZNAME:MDT
DTSTART:20220313T090000
END:DAYLIGHT
BEGIN:STANDARD
TZOFFSETFROM:-0600
TZOFFSETTO:-0700
TZNAME:MST
DTSTART:20221106T080000
END:STANDARD
END:VTIMEZONE
BEGIN:VEVENT
DTSTART;TZID=America/Denver:20220818T180000
DTEND;TZID=America/Denver:20220818T193000
DTSTAMP:20260422T205622
CREATED:20220608T021326Z
LAST-MODIFIED:20220608T021326Z
UID:9663-1660845600-1660851000@give.hpasprings.org
SUMMARY:Tour #6:  US Air Force Academy Planetarium
DESCRIPTION:THIS EVENT IS FULL AND WILL NOT BE TAKING ANYMORE REGISTRATIONS. \nThe US Air Force Academy Planetarium was built in 1959\, making it one of the oldest buildings on the campus.  After decades of continuous use\, GPS and other computing technology rendered the building obsolete and it was closed in 2004.  The facility was reopened in 2019 after a major renovation brought it into the 21st century\, outfitted with over a dozen computers and six projectors.  Join us in seeing how this planetarium has united the building’s rich history with current day technology and scientific understanding to make even the furthest galaxies accessible to anyone.  The live tour will include a short introduction to the history of the planetarium\, a tour of the night sky\, and an astronomer-guided tour through the solar system and beyond. \n___________________________ \nDirections: CAUTION –  Do NOT use GPS directions as they will give you incorrect directions. \nPlease follow these directions:  Use exit 156 off Interstate 25\, entering the US Air Force Academy through the North Gate.  You will need your driver’s license or military ID and proof of vehicle insurance to enter the base.  Once on base\, continue driving straight on Academy Drive for 4 miles and then turn left to park in the visitor lot for Arnold Hall.  To the north of the visitor parking\, there is a building with a white dome—that’s the Planetarium!  Follow the steps to the front door or use the winding path to the left of the steps for ramp access. \n___________________________ \nHPA Coordinator:  Ann Brock \nLead Tour Guide:  Remy Morgan \nRestrooms: yes \nDisabled Access: yes \nRESERVE HERE – IMPORTANT: ONE NAME ONLY PER RESERVATION ENTRY.  TO ADD ANOTHER PERSON (e.g. a spouse or friend)\, CLICK +ADD GUEST AND AN ADDITIONAL RESERVATION BOX WILL APPEAR.    
URL:https://give.hpasprings.org/event/tour-6-airforce-planetarium/
LOCATION:US Air Force Academy Planetarium\, 2346 Academy Drive\, CO\, 80840\, United States
CATEGORIES:Summer Tours 2022
ATTACH;FMTTYPE=:
END:VEVENT
END:VCALENDAR