BEGIN:VCALENDAR
VERSION:2.0
PRODID:-//The Historic Preservation Alliance of Colorado Springs - ECPv6.9.0//NONSGML v1.0//EN
CALSCALE:GREGORIAN
METHOD:PUBLISH
X-WR-CALNAME:The Historic Preservation Alliance of Colorado Springs
X-ORIGINAL-URL:https://give.hpasprings.org
X-WR-CALDESC:Events for The Historic Preservation Alliance of Colorado Springs
REFRESH-INTERVAL;VALUE=DURATION:PT1H
X-Robots-Tag:noindex
X-PUBLISHED-TTL:PT1H
BEGIN:VTIMEZONE
TZID:America/Denver
BEGIN:DAYLIGHT
TZOFFSETFROM:-0700
TZOFFSETTO:-0600
TZNAME:MDT
DTSTART:20220313T090000
END:DAYLIGHT
BEGIN:STANDARD
TZOFFSETFROM:-0600
TZOFFSETTO:-0700
TZNAME:MST
DTSTART:20221106T080000
END:STANDARD
END:VTIMEZONE
BEGIN:VEVENT
DTSTART;TZID=America/Denver:20220811T180000
DTEND;TZID=America/Denver:20220811T193000
DTSTAMP:20260422T225006
CREATED:20220608T020850Z
LAST-MODIFIED:20240507T083145Z
UID:9662-1660240800-1660246200@give.hpasprings.org
SUMMARY:SOLD OUT:  Miramont Castle in Manitou Springs
DESCRIPTION:Miramont Castle is officially sold out! \nSign in begins at 5:30 and would be beneficial to come at the start of check to help avoid the possible rush. \nAccess\, shuttle and parking: Carpool if possible. There is limited parking at Miramont Castle or of course if you can give yourself some extra time\, the shuttle will be RTE 33 leaving from Memorial Park in Manitou. Your stop will be at the east end of Memorial Park by Old Man’s Trail. Refer to the map below and you will simply  let the driver know you are going to the Miramont. The shuttle runs every 20 minutes until 8:00pm. \n___________________________ \nFees: There is a $10 cost which benefits the continued restoration and development of the Miramont Castle Museum.  They will accept both cash and check\, which should be made payable to the Manitou Springs Historical Society. \nThe standard $10 donation for non-members remains the same and of course all members are welcome to come free of charge as a thank you for your support. \nWe are excited that you will be joining us where we will experience life as it would have been in the Victorian Era. You will learn more about the long\, colorful past of the Miramont  by a guided tour of the 14\,000 sq. foot castle. You will be amazed by the antique and vintage fire department apparatus and photographs surrounded by hand crafted “Little London” miniatures of the 1800’s. \n___________________________ \nTour Lead Guide: Leah Blake \nHPA Coordinator: Sue Harman \nRestrooms: yes \nDisabled Access: Talk to Ron Harman 719-460-2559
URL:https://give.hpasprings.org/event/tour-5-miramount-castle/
LOCATION:Miramount Castle\, 9 Capitol Hill Ave\, manitou springs\, CO\, 80829\, United States
CATEGORIES:Event Duplicates,Summer Tours 2022
ATTACH;FMTTYPE=:
END:VEVENT
END:VCALENDAR