BEGIN:VCALENDAR
VERSION:2.0
PRODID:-//The Historic Preservation Alliance of Colorado Springs - ECPv6.9.0//NONSGML v1.0//EN
CALSCALE:GREGORIAN
METHOD:PUBLISH
X-WR-CALNAME:The Historic Preservation Alliance of Colorado Springs
X-ORIGINAL-URL:https://give.hpasprings.org
X-WR-CALDESC:Events for The Historic Preservation Alliance of Colorado Springs
REFRESH-INTERVAL;VALUE=DURATION:PT1H
X-Robots-Tag:noindex
X-PUBLISHED-TTL:PT1H
BEGIN:VTIMEZONE
TZID:America/Denver
BEGIN:DAYLIGHT
TZOFFSETFROM:-0700
TZOFFSETTO:-0600
TZNAME:MDT
DTSTART:20210314T090000
END:DAYLIGHT
BEGIN:STANDARD
TZOFFSETFROM:-0600
TZOFFSETTO:-0700
TZNAME:MST
DTSTART:20211107T080000
END:STANDARD
END:VTIMEZONE
BEGIN:VEVENT
DTSTART;TZID=America/Denver:20210819T163000
DTEND;TZID=America/Denver:20210819T173000
DTSTAMP:20260422T082140
CREATED:20210806T025006Z
LAST-MODIFIED:20210806T025006Z
UID:6009-1629390600-1629394200@give.hpasprings.org
SUMMARY:REGISTRATION IS NOW CLOSED - #6 Art on the Streets 4:30 Tour!
DESCRIPTION:Please note\, only one guest per ticket request submission.\nThe ever-popular Art on the Streets program is sponsored by The Downtown Partnership.  This is a year-long exhibit of outdoor sculpture and murals\, displayed in strategic locations throughout downtown Colorado Springs.  Involving both local artists and those from far beyond our city limits\, this program has become one of the most successful  art shows in the region\, celebrating the power of art in the public.  Art on the Streets provides a city-wide identity\, it enhances the prestige and beauty of our downtown\, it certainly enlivens our visual image\, it provides a means for cultural expression\, it fosters dialogue and it contributes to our quality of life.  We will visit numerous past and present competition winners in a relaxed\, easy stroll.  By all means bring your cameras. \n___________________________ \nLOCATION HAS CHANGED – Vennetucci Statue on the north side of the Colorado Springs Pioneers Museum grounds. \nDirections/ Parking: Easy Parking at the City parking garage @ Nevada and Colorado (or metered on-street parking)  Tours will take 75-90 minutes each. \nMake it a fun dining-out night downtown and discover many new restaurants on Tejon.\nTour Guides: Susan Edmondson \nHPA Coordinator: Roxanne Eflin \nRegistration begins at: 4:00 and 6:00 p.m. \nDisabled Access: Extensive walking\, but generally level surfaces       Restrooms: No \n 
URL:https://give.hpasprings.org/event/summer-tours-series-430-hidden-event-for-art-on-the-streets/
LOCATION:Colorado Springs Pioneer Museum\, 215 S Tejon Street\, Colorado Springs\, 80903
CATEGORIES:Summer Tours
END:VEVENT
END:VCALENDAR