BEGIN:VCALENDAR
VERSION:2.0
PRODID:-//The Historic Preservation Alliance of Colorado Springs - ECPv6.9.0//NONSGML v1.0//EN
CALSCALE:GREGORIAN
METHOD:PUBLISH
X-WR-CALNAME:The Historic Preservation Alliance of Colorado Springs
X-ORIGINAL-URL:https://give.hpasprings.org
X-WR-CALDESC:Events for The Historic Preservation Alliance of Colorado Springs
REFRESH-INTERVAL;VALUE=DURATION:PT1H
X-Robots-Tag:noindex
X-PUBLISHED-TTL:PT1H
BEGIN:VTIMEZONE
TZID:America/Detroit
BEGIN:DAYLIGHT
TZOFFSETFROM:-0500
TZOFFSETTO:-0400
TZNAME:EDT
DTSTART:20230312T070000
END:DAYLIGHT
BEGIN:STANDARD
TZOFFSETFROM:-0400
TZOFFSETTO:-0500
TZNAME:EST
DTSTART:20231105T060000
END:STANDARD
END:VTIMEZONE
BEGIN:VEVENT
DTSTART;TZID=America/Detroit:20230810T193000
DTEND;TZID=America/Detroit:20230810T213000
DTSTAMP:20260422T044245
CREATED:20230427T204330Z
LAST-MODIFIED:20240507T081726Z
UID:16227-1691695800-1691703000@give.hpasprings.org
SUMMARY:5th Summer Tour: Art on the Streets
DESCRIPTION:Art on the Streets Walking Tour \nThe annual Art on the Streets program transforms Downtown streets into an outdoor art gallery. Explore public art and get firsthand insight into the artists’ process on this walking tour. \nCheck-in begins at 5:30 PM at the Nick Venetucci statue on the north side of the Pioneers Museum\, \n215 S. Tejon Street.  When the first group of 20-25 is checked-in\, their tour will begin. \n$5 per person for this private guided tour.  Please use the link below to register and pay for the event directly through Downtown Partnership. \nLink for Registration and Payment \nPARKING & GETTING AROUND DOWNTOWN \nThere are a variety of parking options Downtown. Visit Downtown Parking for a parking map and information on the ParkMobile app\, which allows you to pay meters and extend your time remotely. \nPlan on at least one and a half hours to park\, complete the tour\, and return to your car. \nTours may not start and end at the same location. Try a scooter or PikeRide electric bicycle to get around Downtown or back to your car. The Zeb free Downtown shuttle also service stops throughout Downtown. See the map HERE. \nTHINGS TO DO BEFORE AND AFTER THE TOUR!\nThe Discover Downtown Savings Pass is your ticket to saving on everything from shopping and dining to attractions. Sign up for the free app today! Discover Downtown Savings Pass \nDisabled Access: Yes \nBathrooms: None provided \nHPA Coordinator:  Ann Brock                Tour Guides:  Michelle Winchell & Downtown Ventures Staff
URL:https://give.hpasprings.org/event/summer-tours-of-2023-5th-tour-tour-of-may-natural-history-museum/
LOCATION:Colorado Springs Pioneer Museum\, 215 S Tejon Street\, Colorado Springs\, 80903
CATEGORIES:2023 Summer Tours,Event Duplicates
END:VEVENT
END:VCALENDAR