BEGIN:VCALENDAR
VERSION:2.0
PRODID:-//The Historic Preservation Alliance of Colorado Springs - ECPv6.9.0//NONSGML v1.0//EN
CALSCALE:GREGORIAN
METHOD:PUBLISH
X-WR-CALNAME:The Historic Preservation Alliance of Colorado Springs
X-ORIGINAL-URL:https://give.hpasprings.org
X-WR-CALDESC:Events for The Historic Preservation Alliance of Colorado Springs
REFRESH-INTERVAL;VALUE=DURATION:PT1H
X-Robots-Tag:noindex
X-PUBLISHED-TTL:PT1H
BEGIN:VTIMEZONE
TZID:America/Denver
BEGIN:DAYLIGHT
TZOFFSETFROM:-0700
TZOFFSETTO:-0600
TZNAME:MDT
DTSTART:20220313T090000
END:DAYLIGHT
BEGIN:STANDARD
TZOFFSETFROM:-0600
TZOFFSETTO:-0700
TZNAME:MST
DTSTART:20221106T080000
END:STANDARD
END:VTIMEZONE
BEGIN:VEVENT
DTSTART;TZID=America/Denver:20220528T090000
DTEND;TZID=America/Denver:20220528T110000
DTSTAMP:20260425T064059
CREATED:20220406T110004Z
LAST-MODIFIED:20240507T083550Z
UID:8804-1653728400-1653735600@give.hpasprings.org
SUMMARY:HPA and Old North End Walking Tour
DESCRIPTION:
URL:https://give.hpasprings.org/event/old-north-end-walking-tour/
LOCATION:The Old North End\, 114 East San Miguel\, Colorado Springs\, CO\, 80903\, United States
CATEGORIES:Event Duplicates
END:VEVENT
END:VCALENDAR