BEGIN:VCALENDAR
VERSION:2.0
PRODID:-//The Historic Preservation Alliance of Colorado Springs - ECPv6.9.0//NONSGML v1.0//EN
CALSCALE:GREGORIAN
METHOD:PUBLISH
X-WR-CALNAME:The Historic Preservation Alliance of Colorado Springs
X-ORIGINAL-URL:https://give.hpasprings.org
X-WR-CALDESC:Events for The Historic Preservation Alliance of Colorado Springs
REFRESH-INTERVAL;VALUE=DURATION:PT1H
X-Robots-Tag:noindex
X-PUBLISHED-TTL:PT1H
BEGIN:VTIMEZONE
TZID:America/Denver
BEGIN:DAYLIGHT
TZOFFSETFROM:-0700
TZOFFSETTO:-0600
TZNAME:MDT
DTSTART:20220313T090000
END:DAYLIGHT
BEGIN:STANDARD
TZOFFSETFROM:-0600
TZOFFSETTO:-0700
TZNAME:MST
DTSTART:20221106T080000
END:STANDARD
END:VTIMEZONE
BEGIN:VEVENT
DTSTART;TZID=America/Denver:20220116T150000
DTEND;TZID=America/Denver:20220116T170000
DTSTAMP:20260422T144424
CREATED:20220110T112350Z
LAST-MODIFIED:20220110T112350Z
UID:8075-1642345200-1642352400@give.hpasprings.org
SUMMARY:Lamplighters Neighborhood Discussion
DESCRIPTION:ONEN and the North End Lamplighters are in discussion with the City of Colorado Springs and the Colorado Springs Utilities Department to refurbish the removed lampposts and have them returned to their historic locations. \nA neighborhood Zoom meeting has been scheduled for Sunday\, January 16th at 3 PM.  This is an opportunity to hear updates\, share your ideas and ask questions.
URL:https://give.hpasprings.org/event/lamplighters-neighborhood-discussion/
CATEGORIES:LAMPLIGHTER
ATTACH;FMTTYPE=:
END:VEVENT
END:VCALENDAR