BEGIN:VCALENDAR
VERSION:2.0
PRODID:-//The Historic Preservation Alliance of Colorado Springs - ECPv6.9.0//NONSGML v1.0//EN
CALSCALE:GREGORIAN
METHOD:PUBLISH
X-WR-CALNAME:The Historic Preservation Alliance of Colorado Springs
X-ORIGINAL-URL:https://give.hpasprings.org
X-WR-CALDESC:Events for The Historic Preservation Alliance of Colorado Springs
REFRESH-INTERVAL;VALUE=DURATION:PT1H
X-Robots-Tag:noindex
X-PUBLISHED-TTL:PT1H
BEGIN:VTIMEZONE
TZID:America/Denver
BEGIN:DAYLIGHT
TZOFFSETFROM:-0700
TZOFFSETTO:-0600
TZNAME:MDT
DTSTART:20220313T090000
END:DAYLIGHT
BEGIN:STANDARD
TZOFFSETFROM:-0600
TZOFFSETTO:-0700
TZNAME:MST
DTSTART:20221106T080000
END:STANDARD
END:VTIMEZONE
BEGIN:VEVENT
DTSTART;TZID=America/Denver:20220217T183000
DTEND;TZID=America/Denver:20220217T193000
DTSTAMP:20260422T183321
CREATED:20220106T024318Z
LAST-MODIFIED:20220106T024318Z
UID:6202-1645122600-1645126200@give.hpasprings.org
SUMMARY:1st Session: Hidden in Plain Sight – Historic Art & Architectural Marvels of the Pikes Peak Region
DESCRIPTION:Presented by Dave Alvarez \nNOTE:  This event is currently scheduled to be presented LIVE at the historic Peel House\, first floor\, 1515 N. Cascade – SUBJECT TO CHANGE.   \nAdvance registration is required by clicking below.   \nAbout this lecture:  Presenter Dave Alvarez will take us on a journey through the significant artists and art movements that worked in and around Colorado Springs\, some of who associated themselves with the historic Broadmoor Art Academy and the Colorado Springs Fine Arts Center. Many of these personalities you may know\, but some may be a surprise to you! \nCheck-in begins at 5:45 with a tour of The Peel House at 6:00\, followed by the lecture at 6:30.
URL:https://give.hpasprings.org/event/hidden-in-plain-sight-historic-art-architectural-marvels-of-the-pikes-peak-region/
LOCATION:The Peel House\, 1515 North Cascade Ave\, Colorado Springs\, CO\, 80903\, United States
CATEGORIES:Winter Lecture 2022
ATTACH;FMTTYPE=:
END:VEVENT
END:VCALENDAR