BEGIN:VCALENDAR
VERSION:2.0
PRODID:-//The Historic Preservation Alliance of Colorado Springs - ECPv6.9.0//NONSGML v1.0//EN
CALSCALE:GREGORIAN
METHOD:PUBLISH
X-WR-CALNAME:The Historic Preservation Alliance of Colorado Springs
X-ORIGINAL-URL:https://give.hpasprings.org
X-WR-CALDESC:Events for The Historic Preservation Alliance of Colorado Springs
REFRESH-INTERVAL;VALUE=DURATION:PT1H
X-Robots-Tag:noindex
X-PUBLISHED-TTL:PT1H
BEGIN:VTIMEZONE
TZID:America/Denver
BEGIN:DAYLIGHT
TZOFFSETFROM:-0700
TZOFFSETTO:-0600
TZNAME:MDT
DTSTART:20220313T090000
END:DAYLIGHT
BEGIN:STANDARD
TZOFFSETFROM:-0600
TZOFFSETTO:-0700
TZNAME:MST
DTSTART:20221106T080000
END:STANDARD
END:VTIMEZONE
BEGIN:VEVENT
DTSTART;TZID=America/Denver:20220825T180000
DTEND;TZID=America/Denver:20220825T193000
DTSTAMP:20260422T190040
CREATED:20220608T135211Z
LAST-MODIFIED:20220608T135211Z
UID:9360-1661450400-1661455800@give.hpasprings.org
SUMMARY:Tour #7: First Lutheran Church/Jewett Mansion-Giddings estate
DESCRIPTION:This tour will begin with a presentation covering the earliest history of the property beginning with the Jewett Family\, who conceived of\, built and enjoyed living in their spectacular mansion\, one of the most stunning properties on North Cascade Avenue.  Our beautiful Patty Jewett Golf Course is named after the former owner of the church property.  The talk also covers the time when Ralph Giddings\, owner of Giddings Department Store\, resided here and concludes with the current First Lutheran Church period.  The original architect drawings will be available to view as well as the drawings of the renovation project. \nCheck in begins at 6:00pm tour at 6:30 \n___________________________ \nParking: We will meet at the Peel House\, 1515 North Cascade Avenue.  There are some parking spaces in the alley between Cascade Avenue and Tejon Street.  Other parking is available on the street.  \n___________________________ \nLead Tour Guide:  Pastor Carrie Baylis \nHPA Coordinator:  John Haney \nRestrooms Available:  Yes \nDisabled Access:  There are also handicap parking spaces in the alley. A handicap accessible elevator is inside the glass doors.  \nRESERVE HERE – IMPORTANT: ONE NAME ONLY PER RESERVATION ENTRY.  TO ADD ANOTHER PERSON (e.g. a spouse or friend)\, CLICK +ADD GUEST AND AN ADDITIONAL RESERVATION BOX WILL APPEAR.     \nWould you like to donate towards the cause of The Historic Preservation Alliance[give_form id=”10627″ show_title=”false” show_goal=”false” show_content=”above” display_style=”onpage”]
URL:https://give.hpasprings.org/event/giddings/
LOCATION:Jewett Mansion\, 1515 North Cascade\, Colorado Springs\, CO\, 80907\, United States
CATEGORIES:Summer Tours 2022
END:VEVENT
END:VCALENDAR