BEGIN:VCALENDAR
VERSION:2.0
PRODID:-//The Historic Preservation Alliance of Colorado Springs - ECPv6.9.0//NONSGML v1.0//EN
CALSCALE:GREGORIAN
METHOD:PUBLISH
X-WR-CALNAME:The Historic Preservation Alliance of Colorado Springs
X-ORIGINAL-URL:https://give.hpasprings.org
X-WR-CALDESC:Events for The Historic Preservation Alliance of Colorado Springs
REFRESH-INTERVAL;VALUE=DURATION:PT1H
X-Robots-Tag:noindex
X-PUBLISHED-TTL:PT1H
BEGIN:VTIMEZONE
TZID:America/Denver
BEGIN:DAYLIGHT
TZOFFSETFROM:-0700
TZOFFSETTO:-0600
TZNAME:MDT
DTSTART:20230312T090000
END:DAYLIGHT
BEGIN:STANDARD
TZOFFSETFROM:-0600
TZOFFSETTO:-0700
TZNAME:MST
DTSTART:20231105T080000
END:STANDARD
END:VTIMEZONE
BEGIN:VEVENT
DTSTART;TZID=America/Denver:20230119T180000
DTEND;TZID=America/Denver:20230119T200000
DTSTAMP:20260422T151823
CREATED:20221206T212538Z
LAST-MODIFIED:20221206T212538Z
UID:14259-1674151200-1674158400@give.hpasprings.org
SUMMARY:2023 Annual Meeting
DESCRIPTION:There is nothing to show here!\n						Slider with alias 2023-am-meeting-1 not found.\n					\n				\n			\n			\n\n[av_countdown date=’01 / 19 / 2023′ hour=’18’ minute=’0′ min=’1′ max=’5′ align=’av-align-center’ size=” style=’av-colored-style’ av-medium-font-size-title=” av-small-font-size-title=” av-mini-font-size-title=” av-medium-font-size=” av-small-font-size=” av-mini-font-size=” av_uid=” admin_preview_bg=”] \n  \n 
URL:https://give.hpasprings.org/event/2023-annual-meeting/
LOCATION:The Peel House\, 1515 North Cascade Ave\, Colorado Springs\, CO\, 80903\, United States
CATEGORIES:2023 Annual Meeting
END:VEVENT
END:VCALENDAR